BEGIN:VCALENDAR
VERSION:2.0
PRODID:icalendar-ruby
CALSCALE:GREGORIAN
METHOD:PUBLISH
BEGIN:VEVENT
DTSTAMP:20260420T214450Z
UID:18-544990@unionhill.tithelysetup5.com
DTSTART:20261102T043000Z
DTEND:20261102T054500Z
CLASS:PUBLIC
CREATED:20260420T162816
DESCRIPTION:
LAST-MODIFIED:20260420T162816
LOCATION:
SUMMARY:Sunday Worship Service
URL;VALUE=URI:https://unionhillbaptistchurch.com/events/sunday-worship-serv
 ice/2026-11-01
ATTACH;FILENAME=uhbc_color_summer.jpg;FMTTYPE=image/jpeg:https://dq5pwpg1q8
 ru0.cloudfront.net/2021/11/07/19/11/00/b3958a9a-f60f-4601-afb9-a7a3cbdfe40
 5/uhbc_color_summer.jpg
END:VEVENT
END:VCALENDAR
